BEGIN:VCALENDAR
PRODID:PlannerXE123
VERSION:2.0
CALSCALE:GREGORIAN
METHOD:PUBLISH
BEGIN:VEVENT
DTSTART:20250623
DTEND:20250624
DTSTAMP:20260426T004612Z
UID:(www.haebyeong.co.kr_196704)
CREATED:20260426T004612Z
DESCRIPTION:해병대 신병 1319기 입영\n\n<a href="http://www.haebyeong.co.kr/calendar?document_srl=196673&pOption=W1&document_srl=196704">원본일정</a>
LOCATION:
SEQUENCE:1
STATUS:CONFIRMED
SUMMARY:해병대 신병 1319기 입영
TRANSP:TRANSPARENT
END:VEVENT
BEGIN:VEVENT
DTSTART:20291010T000000Z
DTEND:20291011T000000Z
DTSTAMP:20260426T004612Z
UID:(www.haebyeong.co.kr_196673)
CREATED:20260426T004612Z
DESCRIPTION:신병 1316기 수료식\n\n<a href="http://www.haebyeong.co.kr/calendar?document_srl=196673&pOption=W1&document_srl=196673">원본일정</a>
LOCATION:
SEQUENCE:2
STATUS:CONFIRMED
SUMMARY:신병 1316기 수료식
TRANSP:TRANSPARENT
END:VEVENT
BEGIN:VEVENT
DTSTART:20241021T000000Z
DTEND:20241021T030000Z
DTSTAMP:20260426T004612Z
UID:(www.haebyeong.co.kr_196036)
CREATED:20260426T004612Z
DESCRIPTION:신병 1309기 수료식 교육훈련단 행사연병장\n\n<a href="http://www.haebyeong.co.kr/calendar?document_srl=196673&pOption=W1&document_srl=196036">원본일정</a>
LOCATION:
SEQUENCE:3
STATUS:CONFIRMED
SUMMARY:신병 1309기 수료식
TRANSP:TRANSPARENT
END:VEVENT
BEGIN:VEVENT
DTSTART:20240801
DTEND:20240802
DTSTAMP:20260426T004612Z
UID:(www.haebyeong.co.kr_195668)
CREATED:20260426T004612Z
DESCRIPTION:신병 1307기 수료식\n\n<a href="http://www.haebyeong.co.kr/calendar?document_srl=196673&pOption=W1&document_srl=195668">원본일정</a>
LOCATION:
SEQUENCE:4
STATUS:CONFIRMED
SUMMARY:신병 1307기 수료식
TRANSP:TRANSPARENT
END:VEVENT
BEGIN:VEVENT
DTSTART:20240722
DTEND:20240727
DTSTAMP:20260426T004612Z
UID:(www.haebyeong.co.kr_195667)
CREATED:20260426T004612Z
DESCRIPTION:신병 1307기 극기주\n\n<a href="http://www.haebyeong.co.kr/calendar?document_srl=196673&pOption=W1&document_srl=195667">원본일정</a>
LOCATION:
SEQUENCE:5
STATUS:CONFIRMED
SUMMARY:신병 1307기 극기주
TRANSP:TRANSPARENT
END:VEVENT
BEGIN:VEVENT
DTSTART:20240722
DTEND:20240723
DTSTAMP:20260426T004612Z
UID:(www.haebyeong.co.kr_195666)
CREATED:20260426T004612Z
DESCRIPTION:신병 1308기 입영\n\n<a href="http://www.haebyeong.co.kr/calendar?document_srl=196673&pOption=W1&document_srl=195666">원본일정</a>
LOCATION:
SEQUENCE:6
STATUS:CONFIRMED
SUMMARY:신병 1308기 입영
TRANSP:TRANSPARENT
END:VEVENT
END:VCALENDAR
